BEGIN:VCALENDAR
VERSION:2.0
PRODID:-//Legacy Athletics - ECPv6.15.20//NONSGML v1.0//EN
CALSCALE:GREGORIAN
METHOD:PUBLISH
X-WR-CALNAME:Legacy Athletics
X-ORIGINAL-URL:https://mylegacyathletics.com
X-WR-CALDESC:Events for Legacy Athletics
REFRESH-INTERVAL;VALUE=DURATION:PT1H
X-Robots-Tag:noindex
X-PUBLISHED-TTL:PT1H
BEGIN:VTIMEZONE
TZID:America/Chicago
BEGIN:DAYLIGHT
TZOFFSETFROM:-0600
TZOFFSETTO:-0500
TZNAME:CDT
DTSTART:20250309T080000
END:DAYLIGHT
BEGIN:STANDARD
TZOFFSETFROM:-0500
TZOFFSETTO:-0600
TZNAME:CST
DTSTART:20251102T070000
END:STANDARD
BEGIN:DAYLIGHT
TZOFFSETFROM:-0600
TZOFFSETTO:-0500
TZNAME:CDT
DTSTART:20260308T080000
END:DAYLIGHT
BEGIN:STANDARD
TZOFFSETFROM:-0500
TZOFFSETTO:-0600
TZNAME:CST
DTSTART:20261101T070000
END:STANDARD
BEGIN:DAYLIGHT
TZOFFSETFROM:-0600
TZOFFSETTO:-0500
TZNAME:CDT
DTSTART:20270314T080000
END:DAYLIGHT
BEGIN:STANDARD
TZOFFSETFROM:-0500
TZOFFSETTO:-0600
TZNAME:CST
DTSTART:20271107T070000
END:STANDARD
END:VTIMEZONE
BEGIN:VEVENT
DTSTART;VALUE=DATE:20260528
DTEND;VALUE=DATE:20260531
DTSTAMP:20260424T052016
CREATED:20260309T173305Z
LAST-MODIFIED:20260310T193901Z
UID:1769-1779926400-1780185599@mylegacyathletics.com
SUMMARY:Season 4 Tryouts
DESCRIPTION:[vc_row][vc_column][vc_single_image image=”1770″ img_size=”full” alignment=”center” css=””][vc_empty_space][vc_column_text css=””]\nAt Legacy Athletics\, athletes gain more than just skills—they gain confidence\, character\, and a team that feels like family. Our program focuses on developing well-rounded athletes through quality coaching\, a positive culture\, and an environment where hard work and dedication are celebrated. Along the way\, athletes build friendships\, create lasting memories\, and experience moments they’ll carry with them long after the season ends. Every athlete has a legacy to build\, and our goal is to help them grow both on and off the mat. \nWear all black\, hair in a high ponytail with a bow\, and cheer shoes. After registering\, you will receive an email with your athlete’s assigned day and time for tryouts. \nClick Here to get the All Star Info Packet! \nDate: May 28\, 2026 – May 30\, 2026Practice Time: 6:00 – 8:00 PMCost: $25 \n[/vc_column_text][vc_empty_space][/vc_column][/vc_row][vc_row][vc_column][vc_custom_heading text=”Register Now” use_theme_fonts=”yes”][vc_separator style=”solid” color=”#000000″ padding_top=”10″ padding_bottom=”20″]\n\n                \n                        \n							"*" indicates required fields \n                        \n                        Parent/Guardian's Name*\n                            \n                            \n                                                    \n                                                    First\n                                                \n                            \n                            \n                                                    \n                                                    Last\n                                                \n                            \n                        Phone*Email*\n                            \n                        Participants\n\n	\n\n		\n		\n							\n					Child's Name				\n							\n					Age				\n							\n					T-Shirt Size				\n							\n					Trying Out For				\n							\n					Last Level This Child Was On				\n							\n					Level Trying Out For				\n						Actions\n		\n		\n\n		\n		\n							 \n							 \n							 \n							 \n							 \n							 \n						\n				\n					Edit\n										Delete\n				\n			\n		\n		\n\n		\n		\n			\n				There are no Entries.			\n		\n		\n\n	\n\n	\n				Add Participant\n				\n			\n				Maximum number of entries reached.\n			 \n\nSeason 4 Tryout Fee\n					\n					\n						Price:\n						$75.00\n					\n					\n					\n				Processing Fee\n            \n                $0.00\n                \n            Coupon Total\n							\n						Credit Card*Card Details\n					\n					Cardholder Name\n				\n			\n          \n            \n            \n            \n            \n            \n            \n            \n            \n            \n            \n            \n            \n            \n        \n                        \n                        \n		                \n		                \n[/vc_column][/vc_row]
URL:https://mylegacyathletics.com/event/season-4-tryouts/
CATEGORIES:Upcoming Events
ATTACH;FMTTYPE=image/jpeg:https://mylegacyathletics.com/wp-content/uploads/2026/03/legacyprepcheer.jpg
END:VEVENT
END:VCALENDAR